BEGIN:VCALENDAR
VERSION:2.0
CALSCALE:GREGORIAN
BEGIN:VEVENT
UID:69e4e0f0ed08a
X-MICROSOFT-CDO-BUSYSTATUS:FREE
DTSTAMP:
LOCATION:auf Heimatkanal
DESCRIPTION:Ein Schock für alle auf dem Mattiesen-Hof: Die Staatsanwaltschaft schließt beide Praxen und beschlagnahmt sämtliche Patienten- und Bürounterlagen. Gegen Uli Teschner wird wegen Betrugs im ärztlichen Abrechnungswesen ermittelt. Das ist natürlich Gesprächsstoff für das ganze Dorf und vor allem für den Stammtisch. Uli kann sich das alles nicht erklären und ist am Boden zerstört.
SUMMARY:Siebenundzwanzig Stunden am Tag
DTSTART;TZID="(GMT+01.00) Amsterdam / Berlin / Bern / Rome / Stockholm / Vienna":20260609T180500
DTEND;TZID="(GMT+01.00) Amsterdam / Berlin / Bern / Rome / Stockholm / Vienna":20260609T185500
BEGIN:VALARM
TRIGGER:-PT60M
ACTION:DISPLAY
DESCRIPTION:Reminder
END:VALARM
END:VEVENT
END:VCALENDAR
