BEGIN:VCALENDAR
VERSION:2.0
CALSCALE:GREGORIAN
BEGIN:VEVENT
UID:69e4f52b90340
X-MICROSOFT-CDO-BUSYSTATUS:FREE
DTSTAMP:
LOCATION:auf Heimatkanal
DESCRIPTION:Der Musiker Peter Paul Müller\, genannt 'P.P.'\, hat es nicht leicht\, als der Tonfilm aufkommt\, denn das bringt ihn um seinen Job als Kino-Klavierspieler. Doch als er eines Tages in einem Biergarten gemeinsam mit seiner Frau Annemie seine Eigenkomposition 'Zwei Herzen im Mai' zum besten gibt\, wird Verleger Gesenius auf das musikalische Talent aufmerksam und fördert das junge Ehepaar. Ein herrlicher Aufstieg bahnt sich an - doch P.P. scheint der Erfolg sehr bald zu Kopf zu steigen und er riskiert unversehens nicht nur sein berufliches\, sondern auch sein privates Glück.
SUMMARY:Zwei Herzen im Mai
DTSTART;TZID="(GMT+01.00) Amsterdam / Berlin / Bern / Rome / Stockholm / Vienna":20260610T145000
DTEND;TZID="(GMT+01.00) Amsterdam / Berlin / Bern / Rome / Stockholm / Vienna":20260610T163500
BEGIN:VALARM
TRIGGER:-PT60M
ACTION:DISPLAY
DESCRIPTION:Reminder
END:VALARM
END:VEVENT
END:VCALENDAR
