BEGIN:VCALENDAR
VERSION:2.0
CALSCALE:GREGORIAN
BEGIN:VEVENT
UID:69e4c7b2e5169
X-MICROSOFT-CDO-BUSYSTATUS:FREE
DTSTAMP:
LOCATION:auf Heimatkanal
DESCRIPTION:Hinnerksen vermisst seine Elke\, die in München ihre Mutter pflegt. Jutta und Dr. Uli Teschner nehmen ihn zur Ablenkung mit zum Pferderennen. Hinnerksen gewinnt tatsächlich seine Wette. Doch seine Freude hält nicht lange an\, denn in Deekelsen taucht seine Schwiegermutter auf. Sie hat eine Nachricht für ihn: Elke will sich scheiden lassen. Sie ist schwanger von einem anderen Mann.
SUMMARY:Glück im Spiel
DTSTART;TZID="(GMT+01.00) Amsterdam / Berlin / Bern / Rome / Stockholm / Vienna":20260612T180500
DTEND;TZID="(GMT+01.00) Amsterdam / Berlin / Bern / Rome / Stockholm / Vienna":20260612T185500
BEGIN:VALARM
TRIGGER:-PT60M
ACTION:DISPLAY
DESCRIPTION:Reminder
END:VALARM
END:VEVENT
END:VCALENDAR
