BEGIN:VCALENDAR
VERSION:2.0
CALSCALE:GREGORIAN
BEGIN:VEVENT
UID:69e51329c9de5
X-MICROSOFT-CDO-BUSYSTATUS:FREE
DTSTAMP:
LOCATION:na Romance TV Polska
DESCRIPTION:Paul pracujący jako kierownik kadr cieszy się życiem singla. Mieszka ze swoim rottweilerem w pięknym mieszkaniu. Pewnego dnia musi iść ze swoim psem do weterynarza. Spotyka atrakcyjną tancerkę o imieniu Iris. Dziewczyna bardzo mu się podoba\, ale jest już zaręczona.
SUMMARY:Mężczyzna robi\, co może
DTSTART;TZID="(GMT+01.00) Amsterdam / Berlin / Bern / Rome / Stockholm / Vienna":20260426T215500
DTEND;TZID="(GMT+01.00) Amsterdam / Berlin / Bern / Rome / Stockholm / Vienna":20260427T000500
BEGIN:VALARM
TRIGGER:-PT60M
ACTION:DISPLAY
DESCRIPTION:Reminder
END:VALARM
END:VEVENT
END:VCALENDAR
