BEGIN:VCALENDAR
VERSION:2.0
CALSCALE:GREGORIAN
BEGIN:VEVENT
UID:69e513306bdad
X-MICROSOFT-CDO-BUSYSTATUS:FREE
DTSTAMP:
LOCATION:na Romance TV Polska
DESCRIPTION:W idyllicznym miasteczku Wiesenried można oszaleć. Po pożarze cyrku „Poldini” wszystkie zwierzęta i cała rodzina cyrkowców zostają bez dachu nad głową. Sophie\, burmistrzyni i właścicielka pensjonatu\, bez chwili wahania przyjmuje wszystkich do siebie. Lokator stajni\, Barthl\, jest z tego powodu bardzo niezadowolony\, ponieważ ma złe wspomnienia z dzieciństwa związane z Romami.
SUMMARY:Pokój ze stajnią: Co za cyrk!
DTSTART;TZID="(GMT+01.00) Amsterdam / Berlin / Bern / Rome / Stockholm / Vienna":20260427T000500
DTEND;TZID="(GMT+01.00) Amsterdam / Berlin / Bern / Rome / Stockholm / Vienna":20260427T020000
BEGIN:VALARM
TRIGGER:-PT60M
ACTION:DISPLAY
DESCRIPTION:Reminder
END:VALARM
END:VEVENT
END:VCALENDAR
