BEGIN:VCALENDAR
VERSION:2.0
CALSCALE:GREGORIAN
BEGIN:VEVENT
UID:69e512b463f2e
X-MICROSOFT-CDO-BUSYSTATUS:FREE
DTSTAMP:
LOCATION:na Romance TV Polska
DESCRIPTION:Nauczyciel gotowania Erik udaje się wraz z flensburską szkołą zawodową na wycieczkę. W planach jest wyprawa rowerowa połączona z biwakowaniem. Dyrektorka Katharina\, która towarzyszy grupie\, ma problem z pozwoleniem swoim podopiecznym na samodzielne mierzenie się z wyzwaniami.
SUMMARY:Szkoła nad morzem: Zakaz całowania
DTSTART;TZID="(GMT+01.00) Amsterdam / Berlin / Bern / Rome / Stockholm / Vienna":20260427T020000
DTEND;TZID="(GMT+01.00) Amsterdam / Berlin / Bern / Rome / Stockholm / Vienna":20260427T035000
BEGIN:VALARM
TRIGGER:-PT60M
ACTION:DISPLAY
DESCRIPTION:Reminder
END:VALARM
END:VEVENT
END:VCALENDAR
