BEGIN:VCALENDAR
VERSION:2.0
CALSCALE:GREGORIAN
BEGIN:VEVENT
UID:69e575bfae310
X-MICROSOFT-CDO-BUSYSTATUS:FREE
DTSTAMP:
LOCATION:na Romance TV Polska
DESCRIPTION:Ledwo Hans Gruber przeprowadził się do swojej rodziny\, Martin wpada na pomysł oddania zwolnionego pokoju Anne\, która mogłaby mieć w domu Gruberów swój azyl. Hans jest tym pomysłem urażony. Po pierwsze: zupełnie go zaskoczyła. Po drugie: Anne działa mu na nerwy. Jego zdaniem za bardzo wtrąca się w jego pracę i zawsze ma gotową jakąś mądrą radę. Martin jest szczęśliwy\, że jego przychodnia znów normalnie funkcjonuje. Ponieważ panna Schneider wyjechała ze swoim nowym narzeczonym\, Martin znajduje nową rejestratorkę\, Irenę Bornholm. Mimo to w przychodni nigdy nie ma spokoju.
SUMMARY:Dwóch ojców - część 1
DTSTART;TZID="(GMT+01.00) Amsterdam / Berlin / Bern / Rome / Stockholm / Vienna":20260427T234500
DTEND;TZID="(GMT+01.00) Amsterdam / Berlin / Bern / Rome / Stockholm / Vienna":20260428T004500
BEGIN:VALARM
TRIGGER:-PT60M
ACTION:DISPLAY
DESCRIPTION:Reminder
END:VALARM
END:VEVENT
END:VCALENDAR
