BEGIN:VCALENDAR
VERSION:2.0
CALSCALE:GREGORIAN
BEGIN:VEVENT
UID:69e577432ec65
X-MICROSOFT-CDO-BUSYSTATUS:FREE
DTSTAMP:
LOCATION:na Romance TV Polska
DESCRIPTION:Tim Seebach\, znany serialowy komisarz policji\, pojawia się w chwili\, kiedy technicy kryminalistyki dokonują oględzin zwłok rzemieślnika Jorga. Również tym razem pani komisarz Wiebke nie udaje się odwieść Tima od polowania na zabójcę. Jego śledztwo prowadzi do narzeczonej ofiary\, Kathariny\, handlarki rybami i hodowczyni ostryg.
SUMMARY:Zabójstwo nad morzem wattowym – Na zawsze matiasy
DTSTART;TZID="(GMT+01.00) Amsterdam / Berlin / Bern / Rome / Stockholm / Vienna":20260428T023500
DTEND;TZID="(GMT+01.00) Amsterdam / Berlin / Bern / Rome / Stockholm / Vienna":20260428T042500
BEGIN:VALARM
TRIGGER:-PT60M
ACTION:DISPLAY
DESCRIPTION:Reminder
END:VALARM
END:VEVENT
END:VCALENDAR
