BEGIN:VCALENDAR
VERSION:2.0
CALSCALE:GREGORIAN
BEGIN:VEVENT
UID:69e61d6e1557b
X-MICROSOFT-CDO-BUSYSTATUS:FREE
DTSTAMP:
LOCATION:auf Heimatkanal
DESCRIPTION:Zwei Holzhackerkinder werden von der bösen Stiefmutter\, gegen den Willen des guten Vaters\, in den Wald geschickt\, weil kein Brot mehr da ist. Die Kinder wandern und wandern\, es wird dunkel und beide schlafen vor Erschöpfung ein. Ein Vogel schließich zeigt ihnen den Weg zu einem Häuschen. Es ist aber ein Hexenhaus\, in dem die Wände aus Kuchen und die Fenster aus klarem Zucker sind. Hänsel und Gretel naschen am Haus\, als die Tür aufgeht und eine alte Frau auf die Kinder zukommt und die Kinder einlädt. Die Kinder ahnen nicht dass es sich um eine böse Hexe handelt und folgen ihr ins Haus.
SUMMARY:Hänsel und Gretel
DTSTART;TZID="(GMT+01.00) Amsterdam / Berlin / Bern / Rome / Stockholm / Vienna":20260421T044500
DTEND;TZID="(GMT+01.00) Amsterdam / Berlin / Bern / Rome / Stockholm / Vienna":20260421T052500
BEGIN:VALARM
TRIGGER:-PT60M
ACTION:DISPLAY
DESCRIPTION:Reminder
END:VALARM
END:VEVENT
END:VCALENDAR
