BEGIN:VCALENDAR
VERSION:2.0
CALSCALE:GREGORIAN
BEGIN:VEVENT
UID:69e6c4bcbbece
X-MICROSOFT-CDO-BUSYSTATUS:FREE
DTSTAMP:
LOCATION:auf Heimatkanal
DESCRIPTION:Alexander-Klaus Stecher begrüßte am 3. Januar 2010 in seiner VIP-Ausgabe den Schauspieler Thomas Fritsch. Ob als Jockey in der Erfolgsserie 'Rivalen der Rennbahn'\, als Bösewicht in 'Derrick' oder als Erzähler im Klamaukfilm 'Der Wixxer' - Thomas Fritsch war facettenreich wie nur wenige seiner Kollegen. Zudem war der Münchener - mit Wahlheimat Mykonos - als Synchronsprecher erfolgreich: So lieh er beispielsweise Russell Crowe und Jeremy Irons in Hollywood-Blockbustern seine Stimme. Ob er die Herren wohl auch persönlich kannte? Das verriet er in der GoldStar-TV-Sendung 'Alles Liebe VIP'.
SUMMARY:Alles Liebe V.I.P.: Thomas Fritsch
DTSTART;TZID="(GMT+01.00) Amsterdam / Berlin / Bern / Rome / Stockholm / Vienna":20260421T125500
DTEND;TZID="(GMT+01.00) Amsterdam / Berlin / Bern / Rome / Stockholm / Vienna":20260421T134000
BEGIN:VALARM
TRIGGER:-PT60M
ACTION:DISPLAY
DESCRIPTION:Reminder
END:VALARM
END:VEVENT
END:VCALENDAR
