BEGIN:VCALENDAR
VERSION:2.0
CALSCALE:GREGORIAN
BEGIN:VEVENT
UID:69e5dc5e2623b
X-MICROSOFT-CDO-BUSYSTATUS:FREE
DTSTAMP:
LOCATION:auf Heimatkanal
DESCRIPTION:Ein Geigenbauer und sein Geslle sind neben der Arbeit auch freundschaftlich verbunden. Doch dann wird diese Freundschaft wegen der Liebe beider Männer zum gleichen Mädchen auf eine harte Probe gestellt.
SUMMARY:Der Geigenmacher von Mittenwald
DTSTART;TZID="(GMT+01.00) Amsterdam / Berlin / Bern / Rome / Stockholm / Vienna":20260610T050000
DTEND;TZID="(GMT+01.00) Amsterdam / Berlin / Bern / Rome / Stockholm / Vienna":20260610T063500
BEGIN:VALARM
TRIGGER:-PT60M
ACTION:DISPLAY
DESCRIPTION:Reminder
END:VALARM
END:VEVENT
END:VCALENDAR
