BEGIN:VCALENDAR
VERSION:2.0
CALSCALE:GREGORIAN
BEGIN:VEVENT
UID:69e6542b49fec
X-MICROSOFT-CDO-BUSYSTATUS:FREE
DTSTAMP:
LOCATION:auf Heimatkanal
DESCRIPTION:Rotkäppchen soll der kranken Großmutter Kuchen und Wein bringen. Doch entgegen der mütterlichen Warnungen kommt es vom Wege ab und begegnet dem bösen Wolf\, der ihr mit einer teuflischen List nach dem Leben trachtet.
SUMMARY:Rotkäppchen
DTSTART;TZID="(GMT+01.00) Amsterdam / Berlin / Bern / Rome / Stockholm / Vienna":20260613T122000
DTEND;TZID="(GMT+01.00) Amsterdam / Berlin / Bern / Rome / Stockholm / Vienna":20260613T130000
BEGIN:VALARM
TRIGGER:-PT60M
ACTION:DISPLAY
DESCRIPTION:Reminder
END:VALARM
END:VEVENT
END:VCALENDAR
