BEGIN:VCALENDAR
VERSION:2.0
CALSCALE:GREGORIAN
BEGIN:VEVENT
UID:69e67db92bd9f
X-MICROSOFT-CDO-BUSYSTATUS:FREE
DTSTAMP:
LOCATION:auf Romance TV HD
DESCRIPTION:Ein Paar feiert am See seinen Hochzeitstag und kehrt nicht mehr nach Hause zurück. Katja Baumann kümmert sich um die Kinder der Vermissten. Die Polizei versucht dem Verschwinden auf den Grund zu gehen.
SUMMARY:Frühling - Die verschwundenen Eltern
DTSTART;TZID="(GMT+01.00) Amsterdam / Berlin / Bern / Rome / Stockholm / Vienna":20260421T001000
DTEND;TZID="(GMT+01.00) Amsterdam / Berlin / Bern / Rome / Stockholm / Vienna":20260421T014000
BEGIN:VALARM
TRIGGER:-PT60M
ACTION:DISPLAY
DESCRIPTION:Reminder
END:VALARM
END:VEVENT
END:VCALENDAR
