BEGIN:VCALENDAR
VERSION:2.0
CALSCALE:GREGORIAN
BEGIN:VEVENT
UID:69e67e56e25cb
X-MICROSOFT-CDO-BUSYSTATUS:FREE
DTSTAMP:
LOCATION:auf Romance TV HD
DESCRIPTION:Emma Boyle hat zusammen mit ihrem Freund Henry ihren Traum vom eigenen Unternehmen erfüllt: Sie eröffnet einen Sandwich-Lieferdienst. Für den Aufbau hat Emma ihr bescheidenes Erbe genutzt. Doch gerade als das Geschäft anläuft\, wird sie ungewollt schwanger. Sie nimmt die Neuigkeit positiv auf  ganz im Gegensatz zu Henry\, der das gemeinsame Konto leer räumt und verschwindet. Mittellos und schwanger sucht Emma Zuflucht bei ihrer Tante Carolin\, die in Cornwall eine physiotherapeutische Praxis betreibt. Dort trifft sie den Fußballer Marc. Da Marc schwul ist und das verheimlichen will\, bietet Emma ihm an seine Verlobte zu spielen. Doch dann trifft sie Charles\, Marcs Bruder.
SUMMARY:Rosamunde Pilcher: Die Braut meines Bruders
DTSTART;TZID="(GMT+01.00) Amsterdam / Berlin / Bern / Rome / Stockholm / Vienna":20260421T055000
DTEND;TZID="(GMT+01.00) Amsterdam / Berlin / Bern / Rome / Stockholm / Vienna":20260421T072500
BEGIN:VALARM
TRIGGER:-PT60M
ACTION:DISPLAY
DESCRIPTION:Reminder
END:VALARM
END:VEVENT
END:VCALENDAR
