BEGIN:VCALENDAR
VERSION:2.0
CALSCALE:GREGORIAN
BEGIN:VEVENT
UID:69e5c7b9ae9cc
X-MICROSOFT-CDO-BUSYSTATUS:FREE
DTSTAMP:
LOCATION:na Romance TV Polska
DESCRIPTION:W salonie piękności Eveline Schober podczas zabiegu umiera klientka. Okazuje się\, że przyczyną śmierci był wstrząs anafilaktyczny spowodowany uczuleniem na jad pszczoły. Czyżby praktykantka Kim Oleg wybrała niechcący niewłaściwy zastrzyk?
SUMMARY:Użądlenie pszczoły
DTSTART;TZID="(GMT+01.00) Amsterdam / Berlin / Bern / Rome / Stockholm / Vienna":20260427T180000
DTEND;TZID="(GMT+01.00) Amsterdam / Berlin / Bern / Rome / Stockholm / Vienna":20260427T190000
BEGIN:VALARM
TRIGGER:-PT60M
ACTION:DISPLAY
DESCRIPTION:Reminder
END:VALARM
END:VEVENT
END:VCALENDAR
