BEGIN:VCALENDAR
VERSION:2.0
CALSCALE:GREGORIAN
BEGIN:VEVENT
UID:69e5c860d9527
X-MICROSOFT-CDO-BUSYSTATUS:FREE
DTSTAMP:
LOCATION:na Romance TV Polska
DESCRIPTION:Jutta i Bruno są zaproszeni na Sardynię\, na ślub krewnej Brunona. Zanim jednak udaje im się dotrzeć na miejsce\, zaczynają się perypetie. Para musi podróżować na osłach\, ponieważ ich samochód padł łupem złodzieja. Ich podróż – zamiast być romantycznym wypadem na Szmaragdowe Wybrzeże – staje się dla ich związku próbą przetrwania.
SUMMARY:Dwa osły na Sardynii
DTSTART;TZID="(GMT+01.00) Amsterdam / Berlin / Bern / Rome / Stockholm / Vienna":20260427T200000
DTEND;TZID="(GMT+01.00) Amsterdam / Berlin / Bern / Rome / Stockholm / Vienna":20260427T215000
BEGIN:VALARM
TRIGGER:-PT60M
ACTION:DISPLAY
DESCRIPTION:Reminder
END:VALARM
END:VEVENT
END:VCALENDAR
