BEGIN:VCALENDAR
VERSION:2.0
CALSCALE:GREGORIAN
BEGIN:VEVENT
UID:69e5c7c4523e6
X-MICROSOFT-CDO-BUSYSTATUS:FREE
DTSTAMP:
LOCATION:na Romance TV Polska
DESCRIPTION:Po przeprowadzce i założeniu firmy w życiu Jule ma się rozpocząć nowy rozdział. Umówiła się ze swoim mężem\, że będzie pracować w niepełnym wymiarze godzin\, dopóki ich córka nie pójdzie do szkoły. Potem ma się skoncentrować na rozwoju swojej firmy. Jednak wszystko potoczyło się inaczej\, niż było zaplanowane.
SUMMARY:Kto nakarmi królika?
DTSTART;TZID="(GMT+01.00) Amsterdam / Berlin / Bern / Rome / Stockholm / Vienna":20260427T215000
DTEND;TZID="(GMT+01.00) Amsterdam / Berlin / Bern / Rome / Stockholm / Vienna":20260427T234500
BEGIN:VALARM
TRIGGER:-PT60M
ACTION:DISPLAY
DESCRIPTION:Reminder
END:VALARM
END:VEVENT
END:VCALENDAR
