BEGIN:VCALENDAR
VERSION:2.0
CALSCALE:GREGORIAN
BEGIN:VEVENT
UID:69e762b814b91
X-MICROSOFT-CDO-BUSYSTATUS:FREE
DTSTAMP:
LOCATION:auf Heimatkanal
DESCRIPTION:Millionärstochter Eve erfährt\, dass ihre angeblichen Erfolge als Ballerina nur mit Hilfe von Papas Geld erkauft wurden. Kurzentschlossen geht sie nach Wien\, um sich selbständig zu machen und - wie ihre Urgroßtante\, die legendäre Tänzerin Fanny - berühmt zu werden. Romantische Huldigung an Wien.
SUMMARY:Rote Lippen soll man küssen
DTSTART;TZID="(GMT+01.00) Amsterdam / Berlin / Bern / Rome / Stockholm / Vienna":20260609T130000
DTEND;TZID="(GMT+01.00) Amsterdam / Berlin / Bern / Rome / Stockholm / Vienna":20260609T144000
BEGIN:VALARM
TRIGGER:-PT60M
ACTION:DISPLAY
DESCRIPTION:Reminder
END:VALARM
END:VEVENT
END:VCALENDAR
