BEGIN:VCALENDAR
VERSION:2.0
CALSCALE:GREGORIAN
BEGIN:VEVENT
UID:69e7bf3a93767
X-MICROSOFT-CDO-BUSYSTATUS:FREE
DTSTAMP:
LOCATION:auf Heimatkanal
DESCRIPTION:Dass Hitler Reichskanzler geworden ist und dass der Bäckergeselle von Max\, wie viele Linke\, in der vergangenen Nacht verhaftet worden ist\, kümmert Karl Grandauer wenig - er hat heute nur fürchterliche Zahnschmerzen. Schwager Kurt dagegen widmet dem Ereignis schon wesentlich mehr Aufmerksamkeit. Schließlich sitzt sein Schwiegervater\, ein jüdischer Hutgeschäftsbesitzer\, in Berlin und will von einer Gefahr nichts wissen.
SUMMARY:Kehraus (1933)
DTSTART;TZID="(GMT+01.00) Amsterdam / Berlin / Bern / Rome / Stockholm / Vienna":20260614T164000
DTEND;TZID="(GMT+01.00) Amsterdam / Berlin / Bern / Rome / Stockholm / Vienna":20260614T173500
BEGIN:VALARM
TRIGGER:-PT60M
ACTION:DISPLAY
DESCRIPTION:Reminder
END:VALARM
END:VEVENT
END:VCALENDAR
