BEGIN:VCALENDAR
VERSION:2.0
CALSCALE:GREGORIAN
BEGIN:VEVENT
UID:69e7d2c6eb882
X-MICROSOFT-CDO-BUSYSTATUS:FREE
DTSTAMP:
LOCATION:auf Romance TV HD
DESCRIPTION:Die Wiedersehensfreude von Mutter und Tochter\, die zu Besuch nach Cornwall kommt\, wird getrübt\, als auch der Vater mit seiner weit jüngeren neuen Frau aufkreuzt und sich in der Nähe seiner Ex-Frau niederlässt.
SUMMARY:Rosamunde Pilcher: Wo die Liebe begann
DTSTART;TZID="(GMT+01.00) Amsterdam / Berlin / Bern / Rome / Stockholm / Vienna":20260428T201500
DTEND;TZID="(GMT+01.00) Amsterdam / Berlin / Bern / Rome / Stockholm / Vienna":20260428T214500
BEGIN:VALARM
TRIGGER:-PT60M
ACTION:DISPLAY
DESCRIPTION:Reminder
END:VALARM
END:VEVENT
END:VCALENDAR
