BEGIN:VCALENDAR
VERSION:2.0
CALSCALE:GREGORIAN
BEGIN:VEVENT
UID:69e7500c1a240
X-MICROSOFT-CDO-BUSYSTATUS:FREE
DTSTAMP:
LOCATION:auf Romance TV HD
DESCRIPTION:Diesmal kümmert sich die Eifelpraxis um einen Patienten ohne Krankenversicherung. Nach seiner Insolvenz und Trennung von seiner Frau kämpft der Ex-Bauunternehmer Bernd Wachler mit Erschöpfungszuständen. Dabei geht es darum\, herauszufinden\, woher dieses Symptom kommt.
SUMMARY:Verlorener Vater
DTSTART;TZID="(GMT+01.00) Amsterdam / Berlin / Bern / Rome / Stockholm / Vienna":20260513T092000
DTEND;TZID="(GMT+01.00) Amsterdam / Berlin / Bern / Rome / Stockholm / Vienna":20260513T105500
BEGIN:VALARM
TRIGGER:-PT60M
ACTION:DISPLAY
DESCRIPTION:Reminder
END:VALARM
END:VEVENT
END:VCALENDAR
