BEGIN:VCALENDAR
VERSION:2.0
CALSCALE:GREGORIAN
BEGIN:VEVENT
UID:69e7521e7af39
X-MICROSOFT-CDO-BUSYSTATUS:FREE
DTSTAMP:
LOCATION:auf Romance TV HD
DESCRIPTION:Rentnerin Susanne besucht wegen einer Schnittwunde die Eifelpraxis. Dr. Wegner bemerkt das Händezittern von Susanne und vermutet Parkinson als Grund. Versorgungsassistentin Vicky Röver gibt sich mit der Diagnose nicht zufrieden und möchte die Ursache herausfinden.
SUMMARY:Wann\, wenn nicht jetzt
DTSTART;TZID="(GMT+01.00) Amsterdam / Berlin / Bern / Rome / Stockholm / Vienna":20260514T090500
DTEND;TZID="(GMT+01.00) Amsterdam / Berlin / Bern / Rome / Stockholm / Vienna":20260514T104000
BEGIN:VALARM
TRIGGER:-PT60M
ACTION:DISPLAY
DESCRIPTION:Reminder
END:VALARM
END:VEVENT
END:VCALENDAR
