BEGIN:VCALENDAR
VERSION:2.0
CALSCALE:GREGORIAN
BEGIN:VEVENT
UID:69e7aabd4ce25
X-MICROSOFT-CDO-BUSYSTATUS:FREE
DTSTAMP:
LOCATION:auf Romance TV HD
DESCRIPTION:Indien\, 1905: Die junge Amerikanerin Olivia O'Rourke besucht ihre Tante Lady Bridget Templewood\, die das biedere Leben der Kolonialisten führt und für ihre Nichte einen passenden Ehemann sucht. Als Olivia den gutaussehenden Außenseiter Jai Raventhorne trifft\, der alles Englische verabscheut\, kann dieser ihr Herz im Sturm erobern. Doch Jais Absichten bleiben undurchsichtig und so verlässt er Olivia. Als diese von einem Verbrechen gegen ihre Familie hört\, dass Jai begangen haben soll\, schlägt ihre Liebe in Hass um...
SUMMARY:Rebecca Ryman: Wer Liebe verspricht
DTSTART;TZID="(GMT+01.00) Amsterdam / Berlin / Bern / Rome / Stockholm / Vienna":20260518T111500
DTEND;TZID="(GMT+01.00) Amsterdam / Berlin / Bern / Rome / Stockholm / Vienna":20260518T130500
BEGIN:VALARM
TRIGGER:-PT60M
ACTION:DISPLAY
DESCRIPTION:Reminder
END:VALARM
END:VEVENT
END:VCALENDAR
