BEGIN:VCALENDAR
VERSION:2.0
CALSCALE:GREGORIAN
BEGIN:VEVENT
UID:69e74fba2d722
X-MICROSOFT-CDO-BUSYSTATUS:FREE
DTSTAMP:
LOCATION:auf Romance TV HD
DESCRIPTION:Die Galeristin Nina hat es nicht leicht im Leben. Nicht nur weil ihr Vater ihr niemals etwas zutraut\, sondern weil auch noch ihrer Galerie das Aus droht. Um dies ihrem Vater zu beichten\, nimmt sie ihren guten Freund Lasse zur Unterstützung mit zum Geburtstag ihres Vaters. Doch kaum in der Heimat angekommen\, lernt sie den Neuschafzüchter Jonas kennen und verliebt sich in ihn. Da Lasse aber 'offiziell' als ihr Verlobter gilt\, versucht sie Jonas diese Information vorzuenthalten. Bei der Geburtstagsfeier ihres Vaters brechen dann alle Lügen zusammen.
SUMMARY:Inga Lindström: Mein falscher Verlobter
DTSTART;TZID="(GMT+01.00) Amsterdam / Berlin / Bern / Rome / Stockholm / Vienna":20260526T042000
DTEND;TZID="(GMT+01.00) Amsterdam / Berlin / Bern / Rome / Stockholm / Vienna":20260526T055000
BEGIN:VALARM
TRIGGER:-PT60M
ACTION:DISPLAY
DESCRIPTION:Reminder
END:VALARM
END:VEVENT
END:VCALENDAR
