BEGIN:VCALENDAR
VERSION:2.0
CALSCALE:GREGORIAN
BEGIN:VEVENT
UID:69e784b05ba0f
X-MICROSOFT-CDO-BUSYSTATUS:FREE
DTSTAMP:
LOCATION:auf Romance TV HD
DESCRIPTION:Dr. Susanne Mertens hat nach dem plötzlichen Tod des Direktors die kommissarische Leitung des Zoos übernommen und wird mit neuen Aufgaben nur so überhäuft. Zum einen steht die offizielle Eröffnung von Gondwanaland an\, zum anderen muss sie sich wie immer dringend um ihre Tiere kümmern: Ein Tiger hat Zahnprobleme und ein schwangeres Tapir-Weibchen will nicht fressen. Als Susanne mit Bernd Schröder\, einem Beamten aus dem städtischen Rathaus\, wegen überschrittener Einreichungstermine aneinander gerät\, eskaliert die Auseinandersetzung und sie erhält eine offizielle Abmahnung.
SUMMARY:Gegenwind
DTSTART;TZID="(GMT+01.00) Amsterdam / Berlin / Bern / Rome / Stockholm / Vienna":20260529T031500
DTEND;TZID="(GMT+01.00) Amsterdam / Berlin / Bern / Rome / Stockholm / Vienna":20260529T040500
BEGIN:VALARM
TRIGGER:-PT60M
ACTION:DISPLAY
DESCRIPTION:Reminder
END:VALARM
END:VEVENT
END:VCALENDAR
