BEGIN:VCALENDAR
VERSION:2.0
CALSCALE:GREGORIAN
BEGIN:VEVENT
UID:69e784482be23
X-MICROSOFT-CDO-BUSYSTATUS:FREE
DTSTAMP:
LOCATION:auf Romance TV HD
DESCRIPTION:Zutiefst gekränkt setzt Susanne Christoph vor die Tür. Allerdings muss sie Stärke zeigen\, denn sie ist nicht nur als Tierärztin und kommissarische Direktorin dem Zoo verpflichtet\, sondern auch als Mutter gefragt: Pflegetochter Luisa macht ihr das Leben schwer\, denn sie gibt ihr die alleinige Schuld an Christophs Auszug. Und plötzlich steht auch noch Susannes Sohn Jonas vor der Tür. Und auch im Zoo gibt es einiges zu tun: Elefantenkuh Mia verhält sich eigenartig. Das Tier ist merkwürdig unruhig und sucht ständig Streit mit seinesgleichen.
SUMMARY:Die Rückkehr
DTSTART;TZID="(GMT+01.00) Amsterdam / Berlin / Bern / Rome / Stockholm / Vienna":20260602T032500
DTEND;TZID="(GMT+01.00) Amsterdam / Berlin / Bern / Rome / Stockholm / Vienna":20260602T041500
BEGIN:VALARM
TRIGGER:-PT60M
ACTION:DISPLAY
DESCRIPTION:Reminder
END:VALARM
END:VEVENT
END:VCALENDAR
