BEGIN:VCALENDAR
VERSION:2.0
CALSCALE:GREGORIAN
BEGIN:VEVENT
UID:69e783a5122a6
X-MICROSOFT-CDO-BUSYSTATUS:FREE
DTSTAMP:
LOCATION:auf Romance TV HD
DESCRIPTION:Susanne ist mit dem Umzug in die neue Wohnung beschäftigt. Das Auspacken der Kartons muss sie jedoch vorerst ihrem Sohn und ihren Eltern überlassen. Ein Anruf aus dem Zoo lässt vermuten\, dass Leopardin Nika in den Geburtswehen liegt. Als es ihrem Vater beim Schleppen eines Kartons in den Rücken schießt und seine Frau Charlotte ihn zur Ärztin bringen muss\, kann diese zwar seinen Rücken wieder in Ordnung bringen\, stellt aber bei Georg besorgniserregende Herzfrequenz- und Blutdruckwerte fest. Im Zoo fühlt sich Zoodirektor Dr. Blum zunehmend von seiner Sekretärin Frau Weber genervt\, die auch noch Zeugin seines Medikamentenkonsums wird.
SUMMARY:Umzugschaos
DTSTART;TZID="(GMT+01.00) Amsterdam / Berlin / Bern / Rome / Stockholm / Vienna":20260603T192000
DTEND;TZID="(GMT+01.00) Amsterdam / Berlin / Bern / Rome / Stockholm / Vienna":20260603T201500
BEGIN:VALARM
TRIGGER:-PT60M
ACTION:DISPLAY
DESCRIPTION:Reminder
END:VALARM
END:VEVENT
END:VCALENDAR
