BEGIN:VCALENDAR
VERSION:2.0
CALSCALE:GREGORIAN
BEGIN:VEVENT
UID:69e785019c256
X-MICROSOFT-CDO-BUSYSTATUS:FREE
DTSTAMP:
LOCATION:auf Romance TV HD
DESCRIPTION:Nach dem illegalen Autorennen wohnt Jonas wieder Zuhause. Endlich beichtet er den wahren Grund für seinen Rauswurf aus dem Sportinternat: Er hatte Speed genommen\, um seine Leistungen zu steigern\, und wurde dabei erwischt. Susanne ist erschüttert und zweifelt an ihren Qualitäten als Mutter. Susannes Verhältnis zu ihrem Chef bleibt angespannt. Im Gespräch mit ihm verplappert sie sich in Bezug auf seine Krankheit. Blum ist wütend und verdächtigt Christoph\, seine Schweigepflicht verletzt zu haben. Außerdem glaubt er\, dass nun jeder im Zoo darüber Bescheid weiß\, dass er an Multipler Sklerose leidet. Er will Christoph anzeigen...
SUMMARY:Ungebetene Gäste
DTSTART;TZID="(GMT+01.00) Amsterdam / Berlin / Bern / Rome / Stockholm / Vienna":20260605T233000
DTEND;TZID="(GMT+01.00) Amsterdam / Berlin / Bern / Rome / Stockholm / Vienna":20260606T002000
BEGIN:VALARM
TRIGGER:-PT60M
ACTION:DISPLAY
DESCRIPTION:Reminder
END:VALARM
END:VEVENT
END:VCALENDAR
