BEGIN:VCALENDAR
VERSION:2.0
CALSCALE:GREGORIAN
BEGIN:VEVENT
UID:69e784ab34813
X-MICROSOFT-CDO-BUSYSTATUS:FREE
DTSTAMP:
LOCATION:auf Romance TV HD
DESCRIPTION:Susanne und Christoph bringt die Sorge um ihre gemeinsame Pflegetochter Luisa einander wieder näher. Susanne macht sich Hoffnungen\, dass vielleicht alles wieder so werden könnte\, wie es einmal war. Erleichtert\, dass sie das Sorgerecht für Luisa behalten können\, obwohl deren leibliche Eltern ihr Leben scheinbar wieder besser im Griff haben\, kommt es zu einem verwirrenden Tête à Tête. Susanne ahnt nicht\, dass sich Luisa zu Hause besonders brav gibt\, weil sie klammheimlich ihre leibliche Mutter besucht. Das Mädchen lügt so geschickt\, dass Susanne und Christoph lange Zeit ahnungslos bleiben.
SUMMARY:Die Realistin
DTSTART;TZID="(GMT+01.00) Amsterdam / Berlin / Bern / Rome / Stockholm / Vienna":20260608T192000
DTEND;TZID="(GMT+01.00) Amsterdam / Berlin / Bern / Rome / Stockholm / Vienna":20260608T201500
BEGIN:VALARM
TRIGGER:-PT60M
ACTION:DISPLAY
DESCRIPTION:Reminder
END:VALARM
END:VEVENT
END:VCALENDAR
