BEGIN:VCALENDAR
VERSION:2.0
CALSCALE:GREGORIAN
BEGIN:VEVENT
UID:69e768c714ce1
X-MICROSOFT-CDO-BUSYSTATUS:FREE
DTSTAMP:
LOCATION:auf Romance TV HD
DESCRIPTION:Das Paar Rebecca Renner und Mario Kortner erscheint in der Praxis von Fabian Anders. Rebecca möchte als neue Freundin\, dass sich Mario endlich von seiner Frau scheiden lässt. Fabian kommt der belastende Gedanke\, dass auch seine Frau Paula ihn betrügen könnte.
SUMMARY:Familie Anders - Zwei sind einer zu viel
DTSTART;TZID="(GMT+01.00) Amsterdam / Berlin / Bern / Rome / Stockholm / Vienna":20260610T161000
DTEND;TZID="(GMT+01.00) Amsterdam / Berlin / Bern / Rome / Stockholm / Vienna":20260610T174500
BEGIN:VALARM
TRIGGER:-PT60M
ACTION:DISPLAY
DESCRIPTION:Reminder
END:VALARM
END:VEVENT
END:VCALENDAR
