BEGIN:VCALENDAR
VERSION:2.0
CALSCALE:GREGORIAN
BEGIN:VEVENT
UID:69e784529c2a7
X-MICROSOFT-CDO-BUSYSTATUS:FREE
DTSTAMP:
LOCATION:auf Romance TV HD
DESCRIPTION:Susannes Mutter Charlotte sucht auf Georgs Anregung hin ein klärendes Gespräch mit ihrer Tochter\, was allerdings im Streit endet. Charlotte legt den Finger auf Susannes Wunde: die Angst vor dem Verlust der Familie. In Charlottes Augen ganz klar auch Susannes Fehler\, die sich nicht helfen lassen will. Susanne verbittet sich wütend jegliche Einmischung. Auch die Arbeit im Zoo trägt nicht gerade zur Entspannung bei. Das Wasserschwein Bert scheint vergiftet worden zu sein. Susanne begibt sich auf Spurensuche. Außerdem ist ein ebenso diebischer wie sprachbegabter Rabe in den Zoo eingeflogen.
SUMMARY:Ein neuer Anfang
DTSTART;TZID="(GMT+01.00) Amsterdam / Berlin / Bern / Rome / Stockholm / Vienna":20260611T031500
DTEND;TZID="(GMT+01.00) Amsterdam / Berlin / Bern / Rome / Stockholm / Vienna":20260611T040500
BEGIN:VALARM
TRIGGER:-PT60M
ACTION:DISPLAY
DESCRIPTION:Reminder
END:VALARM
END:VEVENT
END:VCALENDAR
