BEGIN:VCALENDAR
VERSION:2.0
CALSCALE:GREGORIAN
BEGIN:VEVENT
UID:69e784a4da123
X-MICROSOFT-CDO-BUSYSTATUS:FREE
DTSTAMP:
LOCATION:auf Romance TV HD
DESCRIPTION:Susanne muss sich damit abfinden\, dass Luisa wieder bei ihren leiblichen Eltern lebt. Um sich abzulenken\, stürzt sie sich in die Arbeit. Die Seelöwin Sally hat sich eine Wunde an der Flosse zugezogen\, die genäht werden muss. Aber das ist nicht das eigentliche Problem. Sally droht auf beiden Augen komplett zu erblinden. Die dafür nötige Operation hat Susanne aber noch nie durchgeführt. Sie bittet Dr. Blum um Erlaubnis\, eine Fachkraft hinzuzuziehen und ist überrascht\, dass er sofort einverstanden ist. Wenig später erfährt Susanne dann auch den Grund für die ungewohnte Gelassenheit ihres Chefs.
SUMMARY:Klare Worte
DTSTART;TZID="(GMT+01.00) Amsterdam / Berlin / Bern / Rome / Stockholm / Vienna":20260612T032500
DTEND;TZID="(GMT+01.00) Amsterdam / Berlin / Bern / Rome / Stockholm / Vienna":20260612T041500
BEGIN:VALARM
TRIGGER:-PT60M
ACTION:DISPLAY
DESCRIPTION:Reminder
END:VALARM
END:VEVENT
END:VCALENDAR
