BEGIN:VCALENDAR
VERSION:2.0
CALSCALE:GREGORIAN
BEGIN:VEVENT
UID:69e784b0d4884
X-MICROSOFT-CDO-BUSYSTATUS:FREE
DTSTAMP:
LOCATION:auf Romance TV HD
DESCRIPTION:Susanne ist mit Paul am See verabredet. Doch ausgerechnet an diesem Tag taucht Christoph wieder auf. Er hat Beatrice nicht geheiratet und ist sich inzwischen sicher\, dass es ein Fehler war\, Susanne zu verlassen. Er will mit ihr reden und besteht auf ein sofortiges Treffen. Doch Susanne vertröstet ihn auf den nächsten Tag. Sie genießt den Tag mit Paul am See\, als plötzlich ein lauter Schrei die Idylle überschattet. Ein Kind wurde im See von einem Tier angegriffen und schwer verletzt. Anhand der Bisswunde kann Susanne das Tier identifizieren: ein Kaiman. Sie erklärt sich bereit\, bei dessen Fang zu helfen.
SUMMARY:Nicht spurlos
DTSTART;TZID="(GMT+01.00) Amsterdam / Berlin / Bern / Rome / Stockholm / Vienna":20260612T192000
DTEND;TZID="(GMT+01.00) Amsterdam / Berlin / Bern / Rome / Stockholm / Vienna":20260612T201500
BEGIN:VALARM
TRIGGER:-PT60M
ACTION:DISPLAY
DESCRIPTION:Reminder
END:VALARM
END:VEVENT
END:VCALENDAR
