BEGIN:VCALENDAR
VERSION:2.0
CALSCALE:GREGORIAN
BEGIN:VEVENT
UID:69e78485d00ab
X-MICROSOFT-CDO-BUSYSTATUS:FREE
DTSTAMP:
LOCATION:auf Romance TV HD
DESCRIPTION:Die Hotelbesitzerin Dorothea von Siethoff schickt ihren Neffen\, den Hotelmanager Markus Winter\, nach Mauritius\, wo er in einem ihrer Hotels inkognito überprüfen soll\, ob die dortige Hotelmanagerin Tina Berger ihren Aufgaben trotz Mutterschaft und Beziehungskrise noch gewachsen ist. Als sie erfährt\, dass ihre Managerqualitäten getestet werden sollen\, hält sie Pastor Stefan Meier\, den Gewinner eines Preisausschreibens\, für den eingeschläusten Spion und bemüht sich nach Kräften ihm den aufenthalt so angenehm wie möglich zu machen...
SUMMARY:Das Traumhotel: Verliebt auf Mauritius
DTSTART;TZID="(GMT+01.00) Amsterdam / Berlin / Bern / Rome / Stockholm / Vienna":20260613T201500
DTEND;TZID="(GMT+01.00) Amsterdam / Berlin / Bern / Rome / Stockholm / Vienna":20260613T214500
BEGIN:VALARM
TRIGGER:-PT60M
ACTION:DISPLAY
DESCRIPTION:Reminder
END:VALARM
END:VEVENT
END:VCALENDAR
