BEGIN:VCALENDAR
VERSION:2.0
CALSCALE:GREGORIAN
BEGIN:VEVENT
UID:69e797cf68f86
X-MICROSOFT-CDO-BUSYSTATUS:FREE
DTSTAMP:
LOCATION:auf Romance TV HD
DESCRIPTION:Markus Winter will nach der Trennung von seiner Frau in Thailand auf andere Gedanken kommen\, wo seine Tante Dorothea ein Traumhotel auf der Insel Phuket erworben hat. Kurzerhand übernimmt Markus den Managerposten im Hotel\, auf dem Simon Vogler eigentlich gute Arbeit geleistet hat. Er hat sich in letzter Zeit allerdings einige Patzer geleistet. Trotzdem gibt Markus ihm noch eine Chance und die beiden entpuppen sich als gutes Team. Durch ihre Zusammenarbeit erstrahlt das Hotel schon bald wieder in altem Glanz. Sehr zur Freude der Gäste\, die selbst auch vor einigen Herausforderungen stehen...
SUMMARY:Das Traumhotel: Sterne über Thailand
DTSTART;TZID="(GMT+01.00) Amsterdam / Berlin / Bern / Rome / Stockholm / Vienna":20260614T004500
DTEND;TZID="(GMT+01.00) Amsterdam / Berlin / Bern / Rome / Stockholm / Vienna":20260614T021500
BEGIN:VALARM
TRIGGER:-PT60M
ACTION:DISPLAY
DESCRIPTION:Reminder
END:VALARM
END:VEVENT
END:VCALENDAR
