BEGIN:VCALENDAR
VERSION:2.0
CALSCALE:GREGORIAN
BEGIN:VEVENT
UID:69e785086c4e8
X-MICROSOFT-CDO-BUSYSTATUS:FREE
DTSTAMP:
LOCATION:auf Romance TV HD
DESCRIPTION:Jonas bekommt von Zoodirektor Dr. Blum das Angebot\, seine Sozialstunden wegen des illegalen Autorennens im Zoo abzuleisten. Jonas zögert anfänglich\, weiß er doch\, dass Blum ihn hart rannehmen wird. Als ihn sein Kumpel Leon im Zoo besucht\, gerät Leon heftig mit Blum aneinander. Leon ist außer sich und will sich an Blum rächen. Doch da hat er die Rechnung ohne den Zoodirektor gemacht und Jonas sitzt zwischen den Stühlen. Die Vermutung\, dass das Känguru Lenny an einem harmlosen Nährstoffmangel leidet\, erweist sich als falsch. Weitere Untersuchungen ergeben eine harte Diagnose: Lenny hat Krebs. Susanne operiert. Doch der Ausgang ist ungewiss.
SUMMARY:Die zweite Chance
DTSTART;TZID="(GMT+01.00) Amsterdam / Berlin / Bern / Rome / Stockholm / Vienna":20260614T104500
DTEND;TZID="(GMT+01.00) Amsterdam / Berlin / Bern / Rome / Stockholm / Vienna":20260614T113000
BEGIN:VALARM
TRIGGER:-PT60M
ACTION:DISPLAY
DESCRIPTION:Reminder
END:VALARM
END:VEVENT
END:VCALENDAR
