BEGIN:VCALENDAR
VERSION:2.0
CALSCALE:GREGORIAN
BEGIN:VEVENT
UID:69e7180a7402e
X-MICROSOFT-CDO-BUSYSTATUS:FREE
DTSTAMP:
LOCATION:na Romance TV Polska
DESCRIPTION:Grzesznica (Mavie Hörbiger) ma dość swojego męża. Nie może z nim wytrzymać. Na spowiedzi zwierza się księdzu (Max von Thun)\, że jest gotowa uczynić wszystko\, byle by się go jakoś pozbyć. I to naprawdę wszystko.
SUMMARY:Grzechy i grzeszki
DTSTART;TZID="(GMT+01.00) Amsterdam / Berlin / Bern / Rome / Stockholm / Vienna":20260428T063500
DTEND;TZID="(GMT+01.00) Amsterdam / Berlin / Bern / Rome / Stockholm / Vienna":20260428T064000
BEGIN:VALARM
TRIGGER:-PT60M
ACTION:DISPLAY
DESCRIPTION:Reminder
END:VALARM
END:VEVENT
END:VCALENDAR
