BEGIN:VCALENDAR
VERSION:2.0
CALSCALE:GREGORIAN
BEGIN:VEVENT
UID:69e71814d5dce
X-MICROSOFT-CDO-BUSYSTATUS:FREE
DTSTAMP:
LOCATION:na Romance TV Polska
DESCRIPTION:Dr Leander Herzog i jego żona Liv mają różne plany na przyszłość i w związku z tym proszą o pomoc terapeutę par\, Fabiana Andersa. Jednak życie uczuciowe Fabiana też nie jest doskonałe. Opiekuje się dziećmi na zmianę ze swoją jeszcze-żoną Paulą. Paula spędza czas wolny od dzieci u boku innego mężczyzny. Fabian musi się zadowolić życiem singla.
SUMMARY:Rodzina Andersów – Przez różowe okulary
DTSTART;TZID="(GMT+01.00) Amsterdam / Berlin / Bern / Rome / Stockholm / Vienna":20260428T160500
DTEND;TZID="(GMT+01.00) Amsterdam / Berlin / Bern / Rome / Stockholm / Vienna":20260428T180000
BEGIN:VALARM
TRIGGER:-PT60M
ACTION:DISPLAY
DESCRIPTION:Reminder
END:VALARM
END:VEVENT
END:VCALENDAR
