BEGIN:VCALENDAR
VERSION:2.0
CALSCALE:GREGORIAN
BEGIN:VEVENT
UID:69e7194f54318
X-MICROSOFT-CDO-BUSYSTATUS:FREE
DTSTAMP:
LOCATION:na Romance TV Polska
DESCRIPTION:Zamordowany zostaje Pascal\, mieszkaniec internatu. Nie był szczególnie lubiany\, a przed śmiercią pobił się z Franzem Grünbergerem\, przywódcą internatowej bandy. Wydaje się\, że współlokator Pascala\, Ben Welzer\, ukrywa coś przed śledczymi.
SUMMARY:Zemsta jest gorzka
DTSTART;TZID="(GMT+01.00) Amsterdam / Berlin / Bern / Rome / Stockholm / Vienna":20260428T180000
DTEND;TZID="(GMT+01.00) Amsterdam / Berlin / Bern / Rome / Stockholm / Vienna":20260428T190000
BEGIN:VALARM
TRIGGER:-PT60M
ACTION:DISPLAY
DESCRIPTION:Reminder
END:VALARM
END:VEVENT
END:VCALENDAR
