BEGIN:VCALENDAR
VERSION:2.0
CALSCALE:GREGORIAN
BEGIN:VEVENT
UID:69e71857bdd4e
X-MICROSOFT-CDO-BUSYSTATUS:FREE
DTSTAMP:
LOCATION:na Romance TV Polska
DESCRIPTION:Martin walczy o życie Georga Mühltala. Jedynym ratunkiem jest przeszczep szpiku pobranego od jego biologicznego syna\, Maksa. Jednak nie jest to takie proste. Maks jest owocem romansu Georga z żoną jego wspólnika\, Michaela Kollera\, i nie wiadomo\, czy zdradzony mąż wyrazi zgodę na dokonanie zabiegu. Martin\, wykorzystując dyplomację i swój upór\, robi wszystko\, żeby uratować Mühltala. Hans ma mnóstwo obowiązków. Pracuje na gospodarce i prowadzi dobrze prosperujący zajazd.
SUMMARY:Dwóch ojców - część 2
DTSTART;TZID="(GMT+01.00) Amsterdam / Berlin / Bern / Rome / Stockholm / Vienna":20260428T190000
DTEND;TZID="(GMT+01.00) Amsterdam / Berlin / Bern / Rome / Stockholm / Vienna":20260428T200000
BEGIN:VALARM
TRIGGER:-PT60M
ACTION:DISPLAY
DESCRIPTION:Reminder
END:VALARM
END:VEVENT
END:VCALENDAR
