BEGIN:VCALENDAR
VERSION:2.0
CALSCALE:GREGORIAN
BEGIN:VEVENT
UID:69e719592ac81
X-MICROSOFT-CDO-BUSYSTATUS:FREE
DTSTAMP:
LOCATION:na Romance TV Polska
DESCRIPTION:Po śmierci żony w wypadku samochodowym\, właściciel ziemski Sean Hastings zamierza zrezygnować z opieki nad przyklasztornym domem dziecka. Wraz z odejściem żony umarła w nim wiara w Boga. Wkrótce na drodze mężczyzny staje nowicjuszka imieniem Megan. Dziewczyna ratuje synka Hastingsa przed utonięciem. Megan ma nadzieję\, że po tym wydarzeniu mężczyzna zmieni zdanie i nie zrezygnuje z opieki nad domem dziecka i przedłuży umowę dzierżawy. Hastings początkowo traktuje ją z dużą rezerwą. W końcu jednak proponuje jej układ: jeśli Megan zdecyduje się zaopiekować jego synem\, on ze swej strony nadal będzie sprawował pieczę nad domem dziecka.
SUMMARY:Rosamunde Pilcher: Decyzja z miłości
DTSTART;TZID="(GMT+01.00) Amsterdam / Berlin / Bern / Rome / Stockholm / Vienna":20260428T215500
DTEND;TZID="(GMT+01.00) Amsterdam / Berlin / Bern / Rome / Stockholm / Vienna":20260428T235000
BEGIN:VALARM
TRIGGER:-PT60M
ACTION:DISPLAY
DESCRIPTION:Reminder
END:VALARM
END:VEVENT
END:VCALENDAR
