BEGIN:VCALENDAR
VERSION:2.0
CALSCALE:GREGORIAN
BEGIN:VEVENT
UID:69e7191201615
X-MICROSOFT-CDO-BUSYSTATUS:FREE
DTSTAMP:
LOCATION:na Romance TV Polska
DESCRIPTION:Architekta krajobrazu Victoria realizuje ostatnie życzenie swojej zmarłej matki. Ma stworzyć w ich posiadłości ogród japoński. Postanawia udać się do Japonii w poszukiwaniu inspiracji. Ogłasza w Internecie\, że szuka towarzysza podróży i tak trafia na Carla\, ogrodnika amatora. Carl podczas spotkania zachowuje się dość osobliwie.
SUMMARY:Rosamunde Pilcher: Kimkolwiek jesteś
DTSTART;TZID="(GMT+01.00) Amsterdam / Berlin / Bern / Rome / Stockholm / Vienna":20260429T004500
DTEND;TZID="(GMT+01.00) Amsterdam / Berlin / Bern / Rome / Stockholm / Vienna":20260429T024000
BEGIN:VALARM
TRIGGER:-PT60M
ACTION:DISPLAY
DESCRIPTION:Reminder
END:VALARM
END:VEVENT
END:VCALENDAR
