BEGIN:VCALENDAR
VERSION:2.0
CALSCALE:GREGORIAN
BEGIN:VEVENT
UID:69e7184d69a98
X-MICROSOFT-CDO-BUSYSTATUS:FREE
DTSTAMP:
LOCATION:na Romance TV Polska
DESCRIPTION:W rejs do Nusantary kapitan Max Parger zabiera Veronikę Bruckner\, którą poznał w czasie urlopu na lądzie. Ma zamiar wyznać jej swoje uczucia. Staff kapitan Martin Grimm też ma na pokładzie niezwykłe towarzystwo. Chce się z nim rozmówić jego wuj\, Eduard Becker\, odsiadywał karę więzienia za kradzież.
SUMMARY:Statek marzeń - Nusantara
DTSTART;TZID="(GMT+01.00) Amsterdam / Berlin / Bern / Rome / Stockholm / Vienna":20260429T042500
DTEND;TZID="(GMT+01.00) Amsterdam / Berlin / Bern / Rome / Stockholm / Vienna":20260429T062000
BEGIN:VALARM
TRIGGER:-PT60M
ACTION:DISPLAY
DESCRIPTION:Reminder
END:VALARM
END:VEVENT
END:VCALENDAR
