BEGIN:VCALENDAR
VERSION:2.0
CALSCALE:GREGORIAN
BEGIN:VEVENT
UID:69e84ba8ed770
X-MICROSOFT-CDO-BUSYSTATUS:FREE
DTSTAMP:
LOCATION:auf Romance TV HD
DESCRIPTION:Monika wird von ihrer Mutter Gertrud auf eine Reise in den hohen Norden eingeladen. Dass sie sich ausgerechnet in einem Bus voller Rentner wiederfindet\, damit hat sie nicht gerechnet. Während Gertrud voll auf ihre Kosten kommt\, ergreift Monika nach drei Tagen die Flucht und begibt sich auf ihre eigene Reise durch Schottland. Der Zufall führt sie an den Ort zurück\, an dem sie vor nahezu dreißig Jahren als Austauschschülerin einmal sehr glücklich war.
SUMMARY:Ein Sommer in Schottland
DTSTART;TZID="(GMT+01.00) Amsterdam / Berlin / Bern / Rome / Stockholm / Vienna":20260422T113500
DTEND;TZID="(GMT+01.00) Amsterdam / Berlin / Bern / Rome / Stockholm / Vienna":20260422T131000
BEGIN:VALARM
TRIGGER:-PT60M
ACTION:DISPLAY
DESCRIPTION:Reminder
END:VALARM
END:VEVENT
END:VCALENDAR
