BEGIN:VCALENDAR
VERSION:2.0
CALSCALE:GREGORIAN
BEGIN:VEVENT
UID:69e84a45c74eb
X-MICROSOFT-CDO-BUSYSTATUS:FREE
DTSTAMP:
LOCATION:auf Romance TV HD
DESCRIPTION:Die junge Anwältin Katharina aus dem ländlichen Kleinpenning hat es aus eigener Kraft zu etwas gebracht. Nur das Beziehungsleben lässt sich optimieren\, denn die attraktive Singlefrau hat allerhöchste Ansprüche: Selbst in einer Weltstadt kommen – rein statistisch gesehen – nur zwölf Kandidaten infrage! Und von denen war bei den sorgfältig ausgewählten Onlinedates noch keiner dabei. Die Möglichkeit\, dem Richtigen in ihrem Heimatort und durch Zufall zu begegnen\, käme der Wahlmünchnerin niemals in den Sinn. Als sich Katharina um ihre Mutter Johanna nach einem Sturz im Haushalt kümmern muss\, engagiert sie Mike für den seniorengerechten Umbau ihres Elternhauses. Dass ihre Mutter sofort Gefallen an dem gut aussehenden Schreinermeister als potenziellen Schwiegersohn findet\, ist eigentlich schon ein Ausschlusskriterium für Katharina. Auch Mikes selbstbewusst-lässige Art eckt bei ihr erst einmal an. Dennoch beginnt es schon bald zwischen den beiden zu knistern – und das\, obwohl ein Handwerker aus der Provinz kaum in den Kriterienkatalog der statusbewussten Juristin passt!
SUMMARY:Zum Glück gibt's Schreiner
DTSTART;TZID="(GMT+01.00) Amsterdam / Berlin / Bern / Rome / Stockholm / Vienna":20260422T215000
DTEND;TZID="(GMT+01.00) Amsterdam / Berlin / Bern / Rome / Stockholm / Vienna":20260422T232000
BEGIN:VALARM
TRIGGER:-PT60M
ACTION:DISPLAY
DESCRIPTION:Reminder
END:VALARM
END:VEVENT
END:VCALENDAR
