BEGIN:VCALENDAR
VERSION:2.0
CALSCALE:GREGORIAN
BEGIN:VEVENT
UID:69e87a1a095d2
X-MICROSOFT-CDO-BUSYSTATUS:FREE
DTSTAMP:
LOCATION:na Romance TV Polska
DESCRIPTION:Paula chciałaby\, żeby Aleksiej\, jej nowy partner\, bardziej się angażował w życie jej rodziny. Aleksiej natomiast chciałby mieć z Paulą dziecko. Paula nie myśli o kolejnym przodku i zwraca się do Fabiana z prośbą o radę.
SUMMARY:Rodzina Andersów – Mężczyzna numer 1
DTSTART;TZID="(GMT+01.00) Amsterdam / Berlin / Bern / Rome / Stockholm / Vienna":20260429T160500
DTEND;TZID="(GMT+01.00) Amsterdam / Berlin / Bern / Rome / Stockholm / Vienna":20260429T180000
BEGIN:VALARM
TRIGGER:-PT60M
ACTION:DISPLAY
DESCRIPTION:Reminder
END:VALARM
END:VEVENT
END:VCALENDAR
