BEGIN:VCALENDAR
VERSION:2.0
CALSCALE:GREGORIAN
BEGIN:VEVENT
UID:69e87a6bbbdb0
X-MICROSOFT-CDO-BUSYSTATUS:FREE
DTSTAMP:
LOCATION:na Romance TV Polska
DESCRIPTION:Sesja zdjęciowa w górach. Fotograf Josef Märkel pomaga swojej partnerce\, sławie wspinaczki górskiej\, Annie Falter. Podczas zjazdu na linie wypada jeden z haków. Märkel uderza o skały i zapada w śpiączkę. Jerry odkrywa\, że przed sesją para się pokłóciła.
SUMMARY:Swobodny spadek
DTSTART;TZID="(GMT+01.00) Amsterdam / Berlin / Bern / Rome / Stockholm / Vienna":20260429T180000
DTEND;TZID="(GMT+01.00) Amsterdam / Berlin / Bern / Rome / Stockholm / Vienna":20260429T190000
BEGIN:VALARM
TRIGGER:-PT60M
ACTION:DISPLAY
DESCRIPTION:Reminder
END:VALARM
END:VEVENT
END:VCALENDAR
