BEGIN:VCALENDAR
VERSION:2.0
CALSCALE:GREGORIAN
BEGIN:VEVENT
UID:69e87b58b4128
X-MICROSOFT-CDO-BUSYSTATUS:FREE
DTSTAMP:
LOCATION:na Romance TV Polska
DESCRIPTION:Freddy Kleemann musi włączyć opcję „wielozadaniowość”. Juliana\, jego ciężarna żona\, oczekuje od niego więcej zainteresowania. Lara\, jego wspólniczka\, wymaga od niego większego zaangażowania w działalność przedszkola. Fritz\, jego cierpiący na demencję ojciec\, potrzebuje coraz intensywniejszej opieki. Wsparciem dla Freddy’ego mogłaby być Regina\, jego teściowa. Ta jednak sama lubi\, żeby się ktoś o nią troszczył.
SUMMARY:Ojcowskie radości
DTSTART;TZID="(GMT+01.00) Amsterdam / Berlin / Bern / Rome / Stockholm / Vienna":20260429T215000
DTEND;TZID="(GMT+01.00) Amsterdam / Berlin / Bern / Rome / Stockholm / Vienna":20260429T234500
BEGIN:VALARM
TRIGGER:-PT60M
ACTION:DISPLAY
DESCRIPTION:Reminder
END:VALARM
END:VEVENT
END:VCALENDAR
