BEGIN:VCALENDAR
VERSION:2.0
CALSCALE:GREGORIAN
BEGIN:VEVENT
UID:69e87aa96d2a4
X-MICROSOFT-CDO-BUSYSTATUS:FREE
DTSTAMP:
LOCATION:na Romance TV Polska
DESCRIPTION:Bruno Licht przemienił swoją pasję w zawód. Żądny wrażeń i lubiący podejmować ryzyko mężczyzna prowadzi agencję „Funsport”. Podczas szaleńczej jazdy łożyskiem wyschniętej rzeki traci kontrolę nad motocyklem i uderza we wrota stodoły. Martin stwierdza ciężki uraz pleców. Jednak ani motocyklista\, ani właścicielka stodoły nie chcą słuchać porad lekarza.
SUMMARY:Presja - część 1
DTSTART;TZID="(GMT+01.00) Amsterdam / Berlin / Bern / Rome / Stockholm / Vienna":20260429T234500
DTEND;TZID="(GMT+01.00) Amsterdam / Berlin / Bern / Rome / Stockholm / Vienna":20260430T004000
BEGIN:VALARM
TRIGGER:-PT60M
ACTION:DISPLAY
DESCRIPTION:Reminder
END:VALARM
END:VEVENT
END:VCALENDAR
