BEGIN:VCALENDAR
VERSION:2.0
CALSCALE:GREGORIAN
BEGIN:VEVENT
UID:69e87b919d0a4
X-MICROSOFT-CDO-BUSYSTATUS:FREE
DTSTAMP:
LOCATION:na Romance TV Polska
DESCRIPTION:Tenisista Jordan zostaje wysłany do przypominającej raj miejscowości. Ma tam wyleczyć kontuzjowany bark. Pomaga mu psychoterapeutka Elli. Kaprysy Jordana nie ułatwiają Elli życia\, ale dziewczyna nie ma zamiaru ulec nadąsanemu sportsmenowi.
SUMMARY:Terapia pod palmami
DTSTART;TZID="(GMT+01.00) Amsterdam / Berlin / Bern / Rome / Stockholm / Vienna":20260430T004000
DTEND;TZID="(GMT+01.00) Amsterdam / Berlin / Bern / Rome / Stockholm / Vienna":20260430T023000
BEGIN:VALARM
TRIGGER:-PT60M
ACTION:DISPLAY
DESCRIPTION:Reminder
END:VALARM
END:VEVENT
END:VCALENDAR
